BEGIN:VCALENDAR
VERSION:2.0
PRODID:-//wp-events-plugin.com//6.6.4.4//EN
BEGIN:VEVENT
UID:47@boardwalkinn.net
DTSTART:20250524T180000Z
DTEND:20250524T210000Z
DTSTAMP:20250314T124739Z
URL:https://boardwalkinn.net/events/craig-lagrassa/
SUMMARY:Craig Lagrassa
DESCRIPTION:
END:VEVENT
END:VCALENDAR