BEGIN:VCALENDAR
VERSION:2.0
PRODID:-//wp-events-plugin.com//6.6.4.4//EN
BEGIN:VEVENT
UID:7@boardwalkinn.net
DTSTART:20240803T180000Z
DTEND:20240803T210000Z
DTSTAMP:20240805T181554Z
URL:https://boardwalkinn.net/events/get-the-led-out-meghan-clark/
SUMMARY:Meghan Clark
DESCRIPTION:
END:VEVENT
END:VCALENDAR