BEGIN:VCALENDAR
VERSION:2.0
PRODID:-//wp-events-plugin.com//6.6.4.4//EN
BEGIN:VEVENT
UID:127@boardwalkinn.net
DTSTART:20250817T180000Z
DTEND:20250817T210000Z
DTSTAMP:20250316T124059Z
URL:https://boardwalkinn.net/events/johnny-angel-2025-08-17/
SUMMARY:Johnny Angel
DESCRIPTION:
END:VEVENT
END:VCALENDAR